BEGIN:VCALENDAR
VERSION:2.0
PRODID:-//Boston International Film Festival | BostoninterFF - ECPv6.15.14//NONSGML v1.0//EN
CALSCALE:GREGORIAN
METHOD:PUBLISH
X-ORIGINAL-URL:https://www.bostoniff.com
X-WR-CALDESC:Events for Boston International Film Festival | BostoninterFF
REFRESH-INTERVAL;VALUE=DURATION:PT1H
X-Robots-Tag:noindex
X-PUBLISHED-TTL:PT1H
BEGIN:VTIMEZONE
TZID:America/New_York
BEGIN:DAYLIGHT
TZOFFSETFROM:-0500
TZOFFSETTO:-0400
TZNAME:EDT
DTSTART:20230312T070000
END:DAYLIGHT
BEGIN:STANDARD
TZOFFSETFROM:-0400
TZOFFSETTO:-0500
TZNAME:EST
DTSTART:20231105T060000
END:STANDARD
BEGIN:DAYLIGHT
TZOFFSETFROM:-0500
TZOFFSETTO:-0400
TZNAME:EDT
DTSTART:20240310T070000
END:DAYLIGHT
BEGIN:STANDARD
TZOFFSETFROM:-0400
TZOFFSETTO:-0500
TZNAME:EST
DTSTART:20241103T060000
END:STANDARD
BEGIN:DAYLIGHT
TZOFFSETFROM:-0500
TZOFFSETTO:-0400
TZNAME:EDT
DTSTART:20250309T070000
END:DAYLIGHT
BEGIN:STANDARD
TZOFFSETFROM:-0400
TZOFFSETTO:-0500
TZNAME:EST
DTSTART:20251102T060000
END:STANDARD
BEGIN:DAYLIGHT
TZOFFSETFROM:-0500
TZOFFSETTO:-0400
TZNAME:EDT
DTSTART:20260308T070000
END:DAYLIGHT
BEGIN:STANDARD
TZOFFSETFROM:-0400
TZOFFSETTO:-0500
TZNAME:EST
DTSTART:20261101T060000
END:STANDARD
BEGIN:DAYLIGHT
TZOFFSETFROM:-0500
TZOFFSETTO:-0400
TZNAME:EDT
DTSTART:20270314T070000
END:DAYLIGHT
BEGIN:STANDARD
TZOFFSETFROM:-0400
TZOFFSETTO:-0500
TZNAME:EST
DTSTART:20271107T060000
END:STANDARD
END:VTIMEZONE
BEGIN:VEVENT
DTSTART;TZID=America/New_York:20260412T204500
DTEND;TZID=America/New_York:20260412T225500
DTSTAMP:20260423T051141
CREATED:20190301T021306Z
LAST-MODIFIED:20260214T141300Z
UID:5993-1776026700-1776034500@www.bostoniff.com
SUMMARY:Session 10
DESCRIPTION:Let There Be Peace 6min \nMaeve's Mirror 6min \nThe Legend Of Juan Jose Mundo 92min
URL:https://www.bostoniff.com/event/session-10/
LOCATION:SIMONS IMAX THEATRE\, 1 Central Wharf\, Boston\, MA\, 02110\, United States
CATEGORIES:BIFF 2026 Schedule
END:VEVENT
BEGIN:VEVENT
DTSTART;TZID=America/New_York:20260412T184500
DTEND;TZID=America/New_York:20260412T203000
DTSTAMP:20260423T051141
CREATED:20190301T020957Z
LAST-MODIFIED:20260210T230926Z
UID:5991-1776019500-1776025800@www.bostoniff.com
SUMMARY:Session 9
DESCRIPTION:Crudo 10min \nThe Clucking 15min \nYesterday Is Always Here 12min \nThickly Settled 22min \nVelvet Hammer 34min
URL:https://www.bostoniff.com/event/session-9/
LOCATION:SIMONS IMAX THEATRE\, 1 Central Wharf\, Boston\, MA\, 02110\, United States
CATEGORIES:BIFF 2026 Schedule
END:VEVENT
BEGIN:VEVENT
DTSTART;TZID=America/New_York:20260412T170000
DTEND;TZID=America/New_York:20260412T183500
DTSTAMP:20260423T051141
CREATED:20190301T004814Z
LAST-MODIFIED:20260210T230358Z
UID:5986-1776013200-1776018900@www.bostoniff.com
SUMMARY:Session 8
DESCRIPTION:Distant Memories 10min \nUnfinished Song 85min \n\n\n\n\n \n 
URL:https://www.bostoniff.com/event/session-8/
LOCATION:SIMONS IMAX THEATRE\, 1 Central Wharf\, Boston\, MA\, 02110\, United States
CATEGORIES:BIFF 2026 Schedule
END:VEVENT
BEGIN:VEVENT
DTSTART;TZID=America/New_York:20260411T213000
DTEND;TZID=America/New_York:20260411T233000
DTSTAMP:20260423T051141
CREATED:20190301T003933Z
LAST-MODIFIED:20260210T225753Z
UID:5980-1775943000-1775950200@www.bostoniff.com
SUMMARY:Session 7
DESCRIPTION:Money Haul 10min \nSecond Draft 9min \nBook Club Confidential 17min \nAu Revoir (Adios) 75min
URL:https://www.bostoniff.com/event/session-7/
LOCATION:SIMONS IMAX THEATRE\, 1 Central Wharf\, Boston\, MA\, 02110\, United States
CATEGORIES:BIFF 2026 Schedule
END:VEVENT
BEGIN:VEVENT
DTSTART;TZID=America/New_York:20260411T191500
DTEND;TZID=America/New_York:20260411T212000
DTSTAMP:20260423T051141
CREATED:20190301T002827Z
LAST-MODIFIED:20260210T225226Z
UID:5976-1775934900-1775942400@www.bostoniff.com
SUMMARY:Session 6
DESCRIPTION:First Nations: Finding The Chickasaw 5min \nRose's Revenge 15min \nThe Next Chapter 16min \nMangok 28min \nForgotten Founder: The Untold Story Of Samson Occom Darmouth 28min
URL:https://www.bostoniff.com/event/session-6/
LOCATION:SIMONS IMAX THEATRE\, 1 Central Wharf\, Boston\, MA\, 02110\, United States
CATEGORIES:BIFF 2026 Schedule
END:VEVENT
BEGIN:VEVENT
DTSTART;TZID=America/New_York:20260411T170000
DTEND;TZID=America/New_York:20260411T190000
DTSTAMP:20260423T051141
CREATED:20190301T022450Z
LAST-MODIFIED:20260310T174141Z
UID:6006-1775926800-1775934000@www.bostoniff.com
SUMMARY:Session 5
DESCRIPTION:Jam Boy 22min \nRadio Sky 90min
URL:https://www.bostoniff.com/event/session-16/
LOCATION:SIMONS IMAX THEATRE\, 1 Central Wharf\, Boston\, MA\, 02110\, United States
CATEGORIES:BIFF 2026 Schedule
END:VEVENT
BEGIN:VEVENT
DTSTART;TZID=America/New_York:20260411T170000
DTEND;TZID=America/New_York:20260411T190000
DTSTAMP:20260423T051141
CREATED:20190301T002615Z
LAST-MODIFIED:20260210T224041Z
UID:5974-1775926800-1775934000@www.bostoniff.com
SUMMARY:Session 5
DESCRIPTION:Jam Boy 22min \nRadio Sky 90min
URL:https://www.bostoniff.com/event/session-5/
LOCATION:SIMONS IMAX THEATRE\, 1 Central Wharf\, Boston\, MA\, 02110\, United States
CATEGORIES:BIFF 2026 Schedule
END:VEVENT
BEGIN:VEVENT
DTSTART;TZID=America/New_York:20260410T210000
DTEND;TZID=America/New_York:20260410T225500
DTSTAMP:20260423T051141
CREATED:20190301T175650Z
LAST-MODIFIED:20260310T173847Z
UID:6002-1775854800-1775861700@www.bostoniff.com
SUMMARY:Session 4
DESCRIPTION:Night Is For Screaming 10min \nGIMME 14min \nDeath Comes Calling 97min
URL:https://www.bostoniff.com/event/session-14/
LOCATION:SIMONS IMAX THEATRE\, 1 Central Wharf\, Boston\, MA\, 02110\, United States
CATEGORIES:BIFF 2026 Schedule
END:VEVENT
BEGIN:VEVENT
DTSTART;TZID=America/New_York:20260410T210000
DTEND;TZID=America/New_York:20260410T225500
DTSTAMP:20260423T051141
CREATED:20190301T001259Z
LAST-MODIFIED:20260328T183613Z
UID:5966-1775854800-1775861700@www.bostoniff.com
SUMMARY:Session 4
DESCRIPTION:Clown Song  7min \nNight Is For Screaming 10min \nGIMME 14min \nDeath Comes Calling 97min
URL:https://www.bostoniff.com/event/session-4/
LOCATION:SIMONS IMAX THEATRE\, 1 Central Wharf\, Boston\, MA\, 02110\, United States
CATEGORIES:BIFF 2026 Schedule
END:VEVENT
BEGIN:VEVENT
DTSTART;TZID=America/New_York:20260410T190000
DTEND;TZID=America/New_York:20260410T210000
DTSTAMP:20260423T051141
CREATED:20190301T021848Z
LAST-MODIFIED:20260310T173411Z
UID:6000-1775847600-1775854800@www.bostoniff.com
SUMMARY:Session 3
DESCRIPTION:Love In Space II 10min \nSecrets Of The Full Moon Seed 96min
URL:https://www.bostoniff.com/event/session-13/
LOCATION:SIMONS IMAX THEATRE\, 1 Central Wharf\, Boston\, MA\, 02110\, United States
CATEGORIES:BIFF 2026 Schedule
END:VEVENT
BEGIN:VEVENT
DTSTART;TZID=America/New_York:20260410T190000
DTEND;TZID=America/New_York:20260410T210000
DTSTAMP:20260423T051141
CREATED:20190228T223457Z
LAST-MODIFIED:20260210T223153Z
UID:5956-1775847600-1775854800@www.bostoniff.com
SUMMARY:Session 3
DESCRIPTION:Love In Space II 10min \nSecrets Of The Full Moon Seed 96min \n 
URL:https://www.bostoniff.com/event/session-3/
LOCATION:SIMONS IMAX THEATRE\, 1 Central Wharf\, Boston\, MA\, 02110\, United States
CATEGORIES:BIFF 2026 Schedule
END:VEVENT
BEGIN:VEVENT
DTSTART;TZID=America/New_York:20260410T170000
DTEND;TZID=America/New_York:20260410T183000
DTSTAMP:20260423T051141
CREATED:20190301T021715Z
LAST-MODIFIED:20260310T173055Z
UID:5998-1775840400-1775845800@www.bostoniff.com
SUMMARY:Session 2
DESCRIPTION:(Women In Film) \nShift 8min \nThe Silent Contender 6min \nSteeped in Denial 7min \nSay Hello 16min \nForce Of Love 16min \nOutlaw Run 17min \nThe Red Reina 20min
URL:https://www.bostoniff.com/event/session-12/
LOCATION:SIMONS IMAX THEATRE\, 1 Central Wharf\, Boston\, MA\, 02110\, United States
END:VEVENT
BEGIN:VEVENT
DTSTART;TZID=America/New_York:20260410T170000
DTEND;TZID=America/New_York:20260410T183000
DTSTAMP:20260423T051141
CREATED:20190228T222331Z
LAST-MODIFIED:20260210T222547Z
UID:5954-1775840400-1775845800@www.bostoniff.com
SUMMARY:Session 2
DESCRIPTION:(Women In Film) \nShift 8min \nThe Silent Contender 6min \nSteeped in Denial 7min \nSay Hello 16min \nForce Of Love 16min \nOutlaw Run 17min \nThe Red Reina 20min
URL:https://www.bostoniff.com/event/session-2/
LOCATION:SIMONS IMAX THEATRE\, 1 Central Wharf\, Boston\, MA\, 02110\, United States
CATEGORIES:BIFF 2026 Schedule
END:VEVENT
BEGIN:VEVENT
DTSTART;TZID=America/New_York:20260409T160000
DTEND;TZID=America/New_York:20260409T230000
DTSTAMP:20260423T051141
CREATED:20190301T021511Z
LAST-MODIFIED:20260310T172708Z
UID:5996-1775750400-1775775600@www.bostoniff.com
SUMMARY:Session 1
DESCRIPTION:4pm Opening Night Red Carpet \n5:30pm movie screening \nMILAREPA  100min \n8pm Opening Night Party
URL:https://www.bostoniff.com/event/session-11/
LOCATION:SIMONS IMAX THEATRE\, 1 Central Wharf\, Boston\, MA\, 02110\, United States
CATEGORIES:BIFF 2026 Schedule
END:VEVENT
BEGIN:VEVENT
DTSTART;TZID=America/New_York:20260409T160000
DTEND;TZID=America/New_York:20260409T230000
DTSTAMP:20260423T051141
CREATED:20190228T220924Z
LAST-MODIFIED:20260210T221450Z
UID:5948-1775750400-1775775600@www.bostoniff.com
SUMMARY:Session 1
DESCRIPTION:  \n4pm Opening Night Red Carpet \n5:30pm movie screening \nMILAREPA 100min \n8pm Opening Night Party \n \n 
URL:https://www.bostoniff.com/event/session-1/
LOCATION:SIMONS IMAX THEATRE\, 1 Central Wharf\, Boston\, MA\, 02110\, United States
CATEGORIES:BIFF 2026 Schedule
END:VEVENT
BEGIN:VEVENT
DTSTART;TZID=America/New_York:20240415T153000
DTEND;TZID=America/New_York:20240415T173000
DTSTAMP:20260423T051141
CREATED:20190301T033217Z
LAST-MODIFIED:20240226T185726Z
UID:6055-1713195000-1713202200@www.bostoniff.com
SUMMARY:Session 14
DESCRIPTION:Weave Of Culture 20min \nForbidden Womanhood 96 min
URL:https://www.bostoniff.com/event/session-39/
LOCATION:Regent\, 7 Medford Street\, Arlington\, MA\, 02474\, United States
END:VEVENT
BEGIN:VEVENT
DTSTART;TZID=America/New_York:20240415T131500
DTEND;TZID=America/New_York:20240415T150000
DTSTAMP:20260423T051141
CREATED:20190301T033217Z
LAST-MODIFIED:20240212T005756Z
UID:6051-1713186900-1713193200@www.bostoniff.com
SUMMARY:Session 13
DESCRIPTION:Rhino Man 96min
URL:https://www.bostoniff.com/event/session-37/
LOCATION:Regent\, 7 Medford Street\, Arlington\, MA\, 02474\, United States
END:VEVENT
BEGIN:VEVENT
DTSTART;TZID=America/New_York:20240415T103000
DTEND;TZID=America/New_York:20240415T124500
DTSTAMP:20260423T051141
CREATED:20190301T033217Z
LAST-MODIFIED:20240304T171314Z
UID:6049-1713177000-1713185100@www.bostoniff.com
SUMMARY:Session 12
DESCRIPTION:A Man Of The People 105min
URL:https://www.bostoniff.com/event/session-36/
LOCATION:Regent\, 7 Medford Street\, Arlington\, MA\, 02474\, United States
END:VEVENT
BEGIN:VEVENT
DTSTART;TZID=America/New_York:20240414T203000
DTEND;TZID=America/New_York:20240414T230000
DTSTAMP:20260423T051141
CREATED:20190301T033217Z
LAST-MODIFIED:20240212T004211Z
UID:6047-1713126600-1713135600@www.bostoniff.com
SUMMARY:Session 11
DESCRIPTION:Short Program 3\nMaster of Hide and Seek 3min \nMeet John Doe 3min\nCanary 15min\nPeabrain 15min\nWhitey On The Run 15min  \nMinutes To Go 17min\nThe Overlook 19min\nWatchful Eye 30min
URL:https://www.bostoniff.com/event/session-35/
LOCATION:SIMONS IMAX THEATRE\, 1 Central Wharf\, Boston\, MA\, 02110\, United States
END:VEVENT
BEGIN:VEVENT
DTSTART;TZID=America/New_York:20240414T193000
DTEND;TZID=America/New_York:20240414T220000
DTSTAMP:20260423T051141
CREATED:20190301T033216Z
LAST-MODIFIED:20240226T233051Z
UID:6059-1713123000-1713132000@www.bostoniff.com
SUMMARY:Session 16
DESCRIPTION:To Myself\, With Love; The Bessie Stringfield Story 23 min \nFrom Slavery to Hope 30 min \nCandlelight My Way 110 min
URL:https://www.bostoniff.com/event/session-41/
LOCATION:Strand Theatre\, 543 Columbia Road\, Boston\, MA\, 02125\, United States
END:VEVENT
BEGIN:VEVENT
DTSTART;TZID=America/New_York:20240414T180000
DTEND;TZID=America/New_York:20240414T200000
DTSTAMP:20260423T051141
CREATED:20190301T033217Z
LAST-MODIFIED:20240212T003043Z
UID:6045-1713117600-1713124800@www.bostoniff.com
SUMMARY:Session 10
DESCRIPTION:Chihuahua Drama 3min \n#Pizzagate 6min\nAnother Day in America (112 min)
URL:https://www.bostoniff.com/event/session-34/
LOCATION:SIMONS IMAX THEATRE\, 1 Central Wharf\, Boston\, MA\, 02110\, United States
END:VEVENT
BEGIN:VEVENT
DTSTART;TZID=America/New_York:20240414T170000
DTEND;TZID=America/New_York:20240414T190000
DTSTAMP:20260423T051141
CREATED:20190301T175649Z
LAST-MODIFIED:20240226T175933Z
UID:6004-1713114000-1713121200@www.bostoniff.com
SUMMARY:Session 15
DESCRIPTION:Say Your name 17 min  \nGrowing Pains 97min
URL:https://www.bostoniff.com/event/session-15/
LOCATION:Strand Theatre\, 543 Columbia Road\, Boston\, MA\, 02125\, United States
END:VEVENT
BEGIN:VEVENT
DTSTART;TZID=America/New_York:20240414T170000
DTEND;TZID=America/New_York:20240414T190000
DTSTAMP:20260423T051141
CREATED:20190301T033217Z
LAST-MODIFIED:20240226T175613Z
UID:6057-1713114000-1713121200@www.bostoniff.com
SUMMARY:Session 15
DESCRIPTION:Say Your name 17 min  \nGrowing Pains 97min
URL:https://www.bostoniff.com/event/session-40/
LOCATION:Strand Theatre\, 543 Columbia Road\, Boston\, MA\, 02125\, United States
END:VEVENT
BEGIN:VEVENT
DTSTART;TZID=America/New_York:20240414T123000
DTEND;TZID=America/New_York:20240414T143000
DTSTAMP:20260423T051141
CREATED:20190301T033217Z
LAST-MODIFIED:20240212T002232Z
UID:6043-1713097800-1713105000@www.bostoniff.com
SUMMARY:Session 9
DESCRIPTION:The Hit 17min \n\n\n\n\nMethadone Mile 25min \nPop The Pickel 80min
URL:https://www.bostoniff.com/event/session-33/
LOCATION:Regent\, 7 Medford Street\, Arlington\, MA\, 02474\, United States
END:VEVENT
BEGIN:VEVENT
DTSTART;TZID=America/New_York:20240413T203000
DTEND;TZID=America/New_York:20240413T230000
DTSTAMP:20260423T051141
CREATED:20190301T175649Z
LAST-MODIFIED:20240219T235827Z
UID:6041-1713040200-1713049200@www.bostoniff.com
SUMMARY:Session 8
DESCRIPTION:(Women Directors/Producers short films)  \nSponsored by WOMEN IN FILM & VIDEO NEW ENGLAND (WIFVNE) \nSymbiotic 3min \nWiigiwaan 4 min  \nBetween Floors 6min \nLove in Space 7min  \nTechnical Support 8min \nPleats 14 min \nElbow 15min  \n--------------------------  \n9:15pm - 10:55pm\nUgly Sweater 80min
URL:https://www.bostoniff.com/event/session-32/
LOCATION:SIMONS IMAX THEATRE\, 1 Central Wharf\, Boston\, MA\, 02110\, United States
END:VEVENT
BEGIN:VEVENT
DTSTART;TZID=America/New_York:20240413T180000
DTEND;TZID=America/New_York:20240413T200000
DTSTAMP:20260423T051141
CREATED:20190301T033217Z
LAST-MODIFIED:20240220T112153Z
UID:6039-1713031200-1713038400@www.bostoniff.com
SUMMARY:Session 7
DESCRIPTION:Fred and Frankie 3min \nPickleball\, The Movie 10min \nMoney Game 90min
URL:https://www.bostoniff.com/event/session-31/
LOCATION:SIMONS IMAX THEATRE\, 1 Central Wharf\, Boston\, MA\, 02110\, United States
END:VEVENT
BEGIN:VEVENT
DTSTART;TZID=America/New_York:20240413T123000
DTEND;TZID=America/New_York:20240413T143000
DTSTAMP:20260423T051141
CREATED:20190301T033217Z
LAST-MODIFIED:20240211T235227Z
UID:6036-1713011400-1713018600@www.bostoniff.com
SUMMARY:Session 6
DESCRIPTION:Brother & The Piano Competition 5min \n\n\n\n\nFlush 24min\nTo Myself\, With Love: The Bessie Stringfield Story 23min\nFrom Slavery To Hope 30min
URL:https://www.bostoniff.com/event/session-30/
LOCATION:Regent\, 7 Medford Street\, Arlington\, MA\, 02474\, United States
END:VEVENT
BEGIN:VEVENT
DTSTART;TZID=America/New_York:20240413T100000
DTEND;TZID=America/New_York:20240413T120000
DTSTAMP:20260423T051141
CREATED:20190301T033217Z
LAST-MODIFIED:20240211T234813Z
UID:6033-1713002400-1713009600@www.bostoniff.com
SUMMARY:Session 5
DESCRIPTION:The Little Piratemaid 3min \nA Bad Day 8min\nArt Thief 95min
URL:https://www.bostoniff.com/event/session-29/
LOCATION:Regent\, 7 Medford Street\, Arlington\, MA\, 02474\, United States
END:VEVENT
BEGIN:VEVENT
DTSTART;TZID=America/New_York:20240412T200000
DTEND;TZID=America/New_York:20240412T230000
DTSTAMP:20260423T051141
CREATED:20190301T033216Z
LAST-MODIFIED:20240211T233917Z
UID:6031-1712952000-1712962800@www.bostoniff.com
SUMMARY:Session 4
DESCRIPTION:(Horror Friday Night fever)\nThe Devil on Derby Street 8min \nWriters Block 8min\nWho's There? 11min\nThe Activated Man 115min
URL:https://www.bostoniff.com/event/session-28/
LOCATION:Regent\, 7 Medford Street\, Arlington\, MA\, 02474\, United States
END:VEVENT
BEGIN:VEVENT
DTSTART;TZID=America/New_York:20240412T170000
DTEND;TZID=America/New_York:20240412T193000
DTSTAMP:20260423T051141
CREATED:20190301T033217Z
LAST-MODIFIED:20240211T232806Z
UID:6029-1712941200-1712950200@www.bostoniff.com
SUMMARY:Session 3
DESCRIPTION:The Other 104min
URL:https://www.bostoniff.com/event/session-27/
LOCATION:Regent\, 7 Medford Street\, Arlington\, MA\, 02474\, United States
END:VEVENT
END:VCALENDAR